BEGIN:VCALENDAR
VERSION:2.0
PRODID:-//Race Tennessee LLC|Race TN Series - ECPv6.15.20//NONSGML v1.0//EN
CALSCALE:GREGORIAN
METHOD:PUBLISH
X-ORIGINAL-URL:https://racetnseries.com
X-WR-CALDESC:Events for Race Tennessee LLC|Race TN Series
REFRESH-INTERVAL;VALUE=DURATION:PT1H
X-Robots-Tag:noindex
X-PUBLISHED-TTL:PT1H
BEGIN:VTIMEZONE
TZID:America/Chicago
BEGIN:DAYLIGHT
TZOFFSETFROM:-0600
TZOFFSETTO:-0500
TZNAME:CDT
DTSTART:20250309T080000
END:DAYLIGHT
BEGIN:STANDARD
TZOFFSETFROM:-0500
TZOFFSETTO:-0600
TZNAME:CST
DTSTART:20251102T070000
END:STANDARD
BEGIN:DAYLIGHT
TZOFFSETFROM:-0600
TZOFFSETTO:-0500
TZNAME:CDT
DTSTART:20260308T080000
END:DAYLIGHT
BEGIN:STANDARD
TZOFFSETFROM:-0500
TZOFFSETTO:-0600
TZNAME:CST
DTSTART:20261101T070000
END:STANDARD
BEGIN:DAYLIGHT
TZOFFSETFROM:-0600
TZOFFSETTO:-0500
TZNAME:CDT
DTSTART:20270314T080000
END:DAYLIGHT
BEGIN:STANDARD
TZOFFSETFROM:-0500
TZOFFSETTO:-0600
TZNAME:CST
DTSTART:20271107T070000
END:STANDARD
END:VTIMEZONE
BEGIN:VEVENT
DTSTART;VALUE=DATE:20260418
DTEND;VALUE=DATE:20260821
DTSTAMP:20260423T185410
CREATED:20251216T233325Z
LAST-MODIFIED:20260115T153120Z
UID:5140-1776488400-1787201999@racetnseries.com
SUMMARY:Round 2 Overton Co Fairgrounds
DESCRIPTION:MC and ATV Racing – Pre-Register Online day before race 12:01 a.m. to 9:00 p.m.- (times can vary) Strongly Encouraged. No Additional Fees. Pay at Track. Go to the Race TN Series Website. Find the Schedule/Pre-Registration Tab Click the green tab below it Arrive at track and pay at registration booth. CASH ONLY!! Each round has a $5.00 membership fee per rider NOT per class. Check details below for approximate time frames for each event
URL:https://racetnseries.com/event/round-2-overton-co-fairgrounds/
LOCATION:Overton Co Fairgrounds\, 610 Monterey Hwy\, Livingston\, TN\, 38570\, United States
ORGANIZER;CN="RaceTN Series":MAILTO:info@racetnseries.com
END:VEVENT
BEGIN:VEVENT
DTSTART;VALUE=DATE:20260516
DTEND;VALUE=DATE:20260518
DTSTAMP:20260423T185410
CREATED:20251216T233456Z
LAST-MODIFIED:20251216T233456Z
UID:5142-1778907600-1778993999@racetnseries.com
SUMMARY:Round 3 Warren Co Fairgrounds
DESCRIPTION:MC and ATV Racing – Pre-Register Online day before race 12:01 a.m. to 9:00 p.m.- (times can vary) Strongly Encouraged. No Additional Fees. Pay at Track. Go to the Race TN Series Website. Find the Schedule/Pre-Registration Tab Click the green tab below it Arrive at track and pay at registration booth. CASH ONLY!! Each round has a $5.00 membership fee per rider NOT per class. Check details below for approximate time frames for each event
URL:https://racetnseries.com/event/round-3-warren-co-fairgrounds/
LOCATION:Warren Co Fairgrounds\, 194 Fairgrounds Rd\, McMinnville\, 37110\, United States
ORGANIZER;CN="RaceTN Series":MAILTO:info@racetnseries.com
END:VEVENT
BEGIN:VEVENT
DTSTART;VALUE=DATE:20260613
DTEND;VALUE=DATE:20260615
DTSTAMP:20260423T185410
CREATED:20251216T233854Z
LAST-MODIFIED:20251216T233854Z
UID:5144-1781326800-1781413199@racetnseries.com
SUMMARY:Round 4 White Co Fairgrounds
DESCRIPTION:MC and ATV Racing – Pre-Register Online day before race 12:01 a.m. to 9:00 p.m.- (times can vary) Strongly Encouraged. No Additional Fees. Pay at Track. Go to the Race TN Series Website. Find the Schedule/Pre-Registration Tab Click the green tab below it Arrive at track and pay at registration booth. CASH ONLY!! Each round has a $5.00 membership fee per rider NOT per class. Check details below for approximate time frames for each event
URL:https://racetnseries.com/event/round-4-white-co-fairgrounds/
LOCATION:White Co Fairgrounds\, 565 Hale St\, Sparta\, TN\, 38583\, United States
ORGANIZER;CN="RaceTN Series":MAILTO:info@racetnseries.com
END:VEVENT
BEGIN:VEVENT
DTSTART;VALUE=DATE:20260623
DTEND;VALUE=DATE:20260626
DTSTAMP:20260423T185410
CREATED:20251216T234035Z
LAST-MODIFIED:20251216T234035Z
UID:5146-1782190800-1782363599@racetnseries.com
SUMMARY:Rounds 5 & 6 Dekalb Co Fair
DESCRIPTION:MC and ATV Racing – Pre-Register Online day before race 12:01 a.m. to 9:00 p.m.- (times can vary) Strongly Encouraged. No Additional Fees. Pay at Track. Go to the Race TN Series Website. Find the Schedule/Pre-Registration Tab Click the green tab below it Arrive at track and pay at registration booth. CASH ONLY!! Each round has a $5.00 membership fee per rider NOT per class. Check details below for approximate time frames for each event
URL:https://racetnseries.com/event/rounds-5-6-dekalb-co-fair/
LOCATION:Dekalb County Fairgrounds\, Alexandria\, TN\, 102 Fairgrounds Road\, Alexandria\, TN\, 37012\, United States
ORGANIZER;CN="RaceTN Series":MAILTO:info@racetnseries.com
END:VEVENT
BEGIN:VEVENT
DTSTART;VALUE=DATE:20260629
DTEND;VALUE=DATE:20260701
DTSTAMP:20260423T185410
CREATED:20251216T234301Z
LAST-MODIFIED:20251216T234301Z
UID:5148-1782709200-1782795599@racetnseries.com
SUMMARY:Round 7 Smith Co Fair
DESCRIPTION:MC and ATV Racing – Pre-Register Online day before race 12:01 a.m. to 9:00 p.m.- (times can vary) Strongly Encouraged. No Additional Fees. Pay at Track. Go to the Race TN Series Website. Find the Schedule/Pre-Registration Tab Click the green tab below it Arrive at track and pay at registration booth. CASH ONLY!! Each round has a $5.00 membership fee per rider NOT per class. Check details below for approximate time frames for each event
URL:https://racetnseries.com/event/round-7-smith-co-fair/
LOCATION:Smith Co Ag Center\, 159 Ag Center Ln\, Carthage\, TN\, 37030\, United States
ORGANIZER;CN="RaceTN Series":MAILTO:info@racetnseries.com
END:VEVENT
BEGIN:VEVENT
DTSTART;VALUE=DATE:20260721
DTEND;VALUE=DATE:20260724
DTSTAMP:20260423T185410
CREATED:20251216T234502Z
LAST-MODIFIED:20251216T234502Z
UID:5150-1784610000-1784782799@racetnseries.com
SUMMARY:Rounds 8 & 9 Overton Co Fair
DESCRIPTION:MC and ATV Racing – Pre-Register Online day before race 12:01 a.m. to 9:00 p.m.- (times can vary) Strongly Encouraged. No Additional Fees. Pay at Track. Go to the Race TN Series Website. Find the Schedule/Pre-Registration Tab Click the green tab below it Arrive at track and pay at registration booth. CASH ONLY!! Each round has a $5.00 membership fee per rider NOT per class. Check details below for approximate time frames for each event
URL:https://racetnseries.com/event/rounds-8-9-overton-co-fair/
LOCATION:Overton Co Fairgrounds\, 610 Monterey Hwy\, Livingston\, TN\, 38570\, United States
END:VEVENT
BEGIN:VEVENT
DTSTART;VALUE=DATE:20260726
DTEND;VALUE=DATE:20260728
DTSTAMP:20260423T185410
CREATED:20251216T234857Z
LAST-MODIFIED:20251216T234857Z
UID:5152-1785042000-1785128399@racetnseries.com
SUMMARY:Round 10 Macon Co Fair
DESCRIPTION:MC and ATV Racing – Pre-Register Online day before race 12:01 a.m. to 9:00 p.m.- (times can vary) Strongly Encouraged. No Additional Fees. Pay at Track. Go to the Race TN Series Website. Find the Schedule/Pre-Registration Tab Click the green tab below it Arrive at track and pay at registration booth. CASH ONLY!! Each round has a $5.00 membership fee per rider NOT per class. Check details below for approximate time frames for each event
URL:https://racetnseries.com/event/round-10-macon-co-fair-2/
LOCATION:Macon Co Fairgrounds\, 231 Russell Drive\, Lafayette\, TN\, 37083\, United States
ORGANIZER;CN="RaceTN Series":MAILTO:info@racetnseries.com
END:VEVENT
BEGIN:VEVENT
DTSTART;VALUE=DATE:20260801
DTEND;VALUE=DATE:20260803
DTSTAMP:20260423T185410
CREATED:20251216T235020Z
LAST-MODIFIED:20251216T235020Z
UID:5154-1785560400-1785646799@racetnseries.com
SUMMARY:Round 11 Bledsoe Co Fair
DESCRIPTION:MC and ATV Racing – Pre-Register Online day before race 12:01 a.m. to 9:00 p.m.- (times can vary) Strongly Encouraged. No Additional Fees. Pay at Track. Go to the Race TN Series Website. Find the Schedule/Pre-Registration Tab Click the green tab below it Arrive at track and pay at registration booth. CASH ONLY!! Each round has a $5.00 membership fee per rider NOT per class. Check details below for approximate time frames for each event
URL:https://racetnseries.com/event/round-11-bledsoe-co-fair/
LOCATION:Bledsoe Co Fairgrounds\, 36.1299968\, -85.6358912\, Pikeville\, TN\, 37367\, United States
ORGANIZER;CN="RaceTN Series":MAILTO:info@racetnseries.com
END:VEVENT
BEGIN:VEVENT
DTSTART;VALUE=DATE:20260804
DTEND;VALUE=DATE:20260807
DTSTAMP:20260423T185410
CREATED:20251216T235209Z
LAST-MODIFIED:20251216T235209Z
UID:5156-1785819600-1785992399@racetnseries.com
SUMMARY:Rounds 12 & 13 Putnam Co Fair
DESCRIPTION:MC and ATV Racing – Pre-Register Online day before race 12:01 a.m. to 9:00 p.m.- (times can vary) Strongly Encouraged. No Additional Fees. Pay at Track. Go to the Race TN Series Website. Find the Schedule/Pre-Registration Tab Click the green tab below it Arrive at track and pay at registration booth. CASH ONLY!! Each round has a $5.00 membership fee per rider NOT per class. Check details below for approximate time frames for each event
URL:https://racetnseries.com/event/rounds-12-13-putnam-co-fair/
LOCATION:Putnam Co Fairgrounds\, 155 Fairground Street\, Cookeville\, TN\, 38501\, United States
ORGANIZER;CN="RaceTN Series":MAILTO:info@racetnseries.com
END:VEVENT
BEGIN:VEVENT
DTSTART;VALUE=DATE:20260820
DTEND;VALUE=DATE:20260822
DTSTAMP:20260423T185410
CREATED:20251216T235429Z
LAST-MODIFIED:20251216T235429Z
UID:5158-1787202000-1787288399@racetnseries.com
SUMMARY:Round 14 Cumberland Co Fair
DESCRIPTION:MC and ATV Racing – Pre-Register Online day before race 12:01 a.m. to 9:00 p.m.- (times can vary) Strongly Encouraged. No Additional Fees. Pay at Track. Go to the Race TN Series Website. Find the Schedule/Pre-Registration Tab Click the green tab below it Arrive at track and pay at registration booth. CASH ONLY!! Each round has a $5.00 membership fee per rider NOT per class. Check details below for approximate time frames for each event
URL:https://racetnseries.com/event/round-14-cumberland-co-fair/
LOCATION:Cumberland County Complex\, 1398 Livingston Rd\, Crossville\, TN\, 38571\, United States
ORGANIZER;CN="RaceTN Series":MAILTO:info@racetnseries.com
END:VEVENT
BEGIN:VEVENT
DTSTART;VALUE=DATE:20260902
DTEND;VALUE=DATE:20260904
DTSTAMP:20260423T185410
CREATED:20251216T235601Z
LAST-MODIFIED:20251216T235601Z
UID:5160-1788325200-1788411599@racetnseries.com
SUMMARY:Round 15 White Co Fair
DESCRIPTION:MC and ATV Racing – Pre-Register Online day before race 12:01 a.m. to 9:00 p.m.- (times can vary) Strongly Encouraged. No Additional Fees. Pay at Track. Go to the Race TN Series Website. Find the Schedule/Pre-Registration Tab Click the green tab below it Arrive at track and pay at registration booth. CASH ONLY!! Each round has a $5.00 membership fee per rider NOT per class. Check details below for approximate time frames for each event
URL:https://racetnseries.com/event/round-15-white-co-fair/
LOCATION:White Co Fairgrounds\, 565 Hale St\, Sparta\, TN\, 38583\, United States
ORGANIZER;CN="RaceTN Series":MAILTO:info@racetnseries.com
END:VEVENT
BEGIN:VEVENT
DTSTART;VALUE=DATE:20260906
DTEND;VALUE=DATE:20260908
DTSTAMP:20260423T185410
CREATED:20251216T235802Z
LAST-MODIFIED:20251216T235802Z
UID:5162-1788670800-1788757199@racetnseries.com
SUMMARY:Round 16 Warren Co Fair
DESCRIPTION:MC and ATV Racing – Pre-Register Online day before race 12:01 a.m. to 9:00 p.m.- (times can vary) Strongly Encouraged. No Additional Fees. Pay at Track. Go to the Race TN Series Website. Find the Schedule/Pre-Registration Tab Click the green tab below it Arrive at track and pay at registration booth. CASH ONLY!! Each round has a $5.00 membership fee per rider NOT per class. Check details below for approximate time frames for each event
URL:https://racetnseries.com/event/round-16-warren-co-fair/
LOCATION:Warren Co Fairgrounds\, 194 Fairgrounds Rd\, McMinnville\, 37110\, United States
ORGANIZER;CN="RaceTN Series":MAILTO:info@racetnseries.com
END:VEVENT
BEGIN:VEVENT
DTSTART;VALUE=DATE:20260912
DTEND;VALUE=DATE:20260914
DTSTAMP:20260423T185410
CREATED:20251216T235948Z
LAST-MODIFIED:20251216T235948Z
UID:5164-1789189200-1789275599@racetnseries.com
SUMMARY:Bonus Round Overton Co Fairgrounds
DESCRIPTION:MC and ATV Racing – Pre-Register Online day before race 12:01 a.m. to 9:00 p.m.- (times can vary) Strongly Encouraged. No Additional Fees. Pay at Track. Go to the Race TN Series Website. Find the Schedule/Pre-Registration Tab Click the green tab below it Arrive at track and pay at registration booth. CASH ONLY!! Each round has a $5.00 membership fee per rider NOT per class. Check details below for approximate time frames for each event
URL:https://racetnseries.com/event/bonus-round-overton-co-fairgrounds/
LOCATION:Overton Co Fairgrounds\, 610 Monterey Hwy\, Livingston\, TN\, 38570\, United States
ORGANIZER;CN="RaceTN Series":MAILTO:info@racetnseries.com
END:VEVENT
BEGIN:VEVENT
DTSTART;VALUE=DATE:20261003
DTEND;VALUE=DATE:20261005
DTSTAMP:20260423T185410
CREATED:20251217T000137Z
LAST-MODIFIED:20260118T154240Z
UID:5166-1791003600-1791089999@racetnseries.com
SUMMARY:Bonus Round White Co Fairgrounds
DESCRIPTION:MC and ATV Racing – Pre-Register Online day before race 12:01 a.m. to 9:00 p.m.- (times can vary) Strongly Encouraged. No Additional Fees. Pay at Track. Go to the Race TN Series Website. Find the Schedule/Pre-Registration Tab Click the green tab below it Arrive at track and pay at registration booth. CASH ONLY!! Each round has a $5.00 membership fee per rider NOT per class. Check details below for approximate time frames for each event
URL:https://racetnseries.com/event/bonus-round-white-co-fairgrounds/
LOCATION:White Co Fairgrounds\, 565 Hale St\, Sparta\, TN\, 38583\, United States
ORGANIZER;CN="RaceTN Series":MAILTO:info@racetnseries.com
END:VEVENT
END:VCALENDAR