BEGIN:VCALENDAR
VERSION:2.0
PRODID:-//Race Tennessee LLC|Race TN Series - ECPv6.15.20//NONSGML v1.0//EN
CALSCALE:GREGORIAN
METHOD:PUBLISH
X-WR-CALNAME:Race Tennessee LLC|Race TN Series
X-ORIGINAL-URL:https://racetnseries.com
X-WR-CALDESC:Events for Race Tennessee LLC|Race TN Series
REFRESH-INTERVAL;VALUE=DURATION:PT1H
X-Robots-Tag:noindex
X-PUBLISHED-TTL:PT1H
BEGIN:VTIMEZONE
TZID:America/Chicago
BEGIN:DAYLIGHT
TZOFFSETFROM:-0600
TZOFFSETTO:-0500
TZNAME:CDT
DTSTART:20220313T080000
END:DAYLIGHT
BEGIN:STANDARD
TZOFFSETFROM:-0500
TZOFFSETTO:-0600
TZNAME:CST
DTSTART:20221106T070000
END:STANDARD
BEGIN:DAYLIGHT
TZOFFSETFROM:-0600
TZOFFSETTO:-0500
TZNAME:CDT
DTSTART:20230312T080000
END:DAYLIGHT
BEGIN:STANDARD
TZOFFSETFROM:-0500
TZOFFSETTO:-0600
TZNAME:CST
DTSTART:20231105T070000
END:STANDARD
BEGIN:DAYLIGHT
TZOFFSETFROM:-0600
TZOFFSETTO:-0500
TZNAME:CDT
DTSTART:20240310T080000
END:DAYLIGHT
BEGIN:STANDARD
TZOFFSETFROM:-0500
TZOFFSETTO:-0600
TZNAME:CST
DTSTART:20241103T070000
END:STANDARD
BEGIN:DAYLIGHT
TZOFFSETFROM:-0600
TZOFFSETTO:-0500
TZNAME:CDT
DTSTART:20250309T080000
END:DAYLIGHT
BEGIN:STANDARD
TZOFFSETFROM:-0500
TZOFFSETTO:-0600
TZNAME:CST
DTSTART:20251102T070000
END:STANDARD
END:VTIMEZONE
BEGIN:VEVENT
DTSTART;TZID=America/Chicago:20240806T233000
DTEND;TZID=America/Chicago:20240807T045900
DTSTAMP:20260423T184022
CREATED:20240107T235716Z
LAST-MODIFIED:20240726T191124Z
UID:4396-1722987000-1723006740@racetnseries.com
SUMMARY:Round 11 Putnam Co Fair Night 1
DESCRIPTION:MC and ATV Racing – Pre-Register Online day before race 12:01 a.m. to 9:00 p.m.-(times can vary)Strongly Encouraged. No Additional Fees. Pay at Track. Go to the Race TN Series Website. Find the Schedule/Pre Registration Tab Click the green tab below it Arrive at track and pay at registration booth. CASH ONLY!! Each round has a $5.00 membership fee per rider NOT per class. Check details below for approximate time frames for each event
URL:https://racetnseries.com/event/round-11-putnam-co-fair-night-1-2/
LOCATION:Putnam Co Fairgrounds\, 155 Fairground Street\, Cookeville\, TN\, 38501\, United States
ORGANIZER;CN="RaceTN Series":MAILTO:info@racetnseries.com
END:VEVENT
BEGIN:VEVENT
DTSTART;TZID=America/Chicago:20240724T233000
DTEND;TZID=America/Chicago:20240725T045900
DTSTAMP:20260423T184022
CREATED:20240107T235555Z
LAST-MODIFIED:20240610T000652Z
UID:4394-1721863800-1721883540@racetnseries.com
SUMMARY:Round 10 Overton Co Fair Night 2
DESCRIPTION:MC and ATV Racing – Pre-Register Online day before race 12:01 a.m. to 9:00 p.m.-(times can vary)Strongly Encouraged. No Additional Fees. Pay at Track. Go to the Race TN Series Website. Find the Schedule/Pre Registration Tab Click the green tab below it Arrive at track and pay at registration booth. CASH ONLY!! Each round has a $5.00 membership fee per rider NOT per class. Check details below for approximate time frames for each event
URL:https://racetnseries.com/event/round-10-overton-co-fair-night-2/
LOCATION:Overton Co Fairgrounds\, 610 Monterey Hwy\, Livingston\, TN\, 38570\, United States
ORGANIZER;CN="RaceTN Series":MAILTO:info@racetnseries.com
END:VEVENT
BEGIN:VEVENT
DTSTART;TZID=America/Chicago:20240723T233000
DTEND;TZID=America/Chicago:20240724T020000
DTSTAMP:20260423T184022
CREATED:20240107T235459Z
LAST-MODIFIED:20240723T182211Z
UID:4391-1721777400-1721786400@racetnseries.com
SUMMARY:Round 9 Overton Co Fair Night 1
DESCRIPTION:MC and ATV Racing – Pre-Register Online day before race 12:01 a.m. to 9:00 p.m.-(times can vary)Strongly Encouraged. No Additional Fees. Pay at Track. Go to the Race TN Series Website. Find the Schedule/Pre Registration Tab Click the green tab below it Arrive at track and pay at registration booth. CASH ONLY!! Each round has a $5.00 membership fee per rider NOT per class. Check details below for approximate time frames for each event
URL:https://racetnseries.com/event/round-9-overton-co-fair-night-1-2/
LOCATION:Overton Co Fairgrounds\, 610 Monterey Hwy\, Livingston\, TN\, 38570\, United States
ORGANIZER;CN="RaceTN Series":MAILTO:info@racetnseries.com
END:VEVENT
BEGIN:VEVENT
DTSTART;TZID=America/Chicago:20240712T233000
DTEND;TZID=America/Chicago:20240713T033000
DTSTAMP:20260423T184022
CREATED:20240107T235226Z
LAST-MODIFIED:20240626T191434Z
UID:4387-1720827000-1720841400@racetnseries.com
SUMMARY:Round 7 Make Up Dekalb Co Fairgrounds
DESCRIPTION:MC and ATV Racing – Pre-Register Online day before race 12:01 a.m. to 9:00 p.m.-(times can vary)Strongly Encouraged. No Additional Fees. Pay at Track. Go to the Race TN Series Website. Find the Schedule/Pre Registration Tab Click the green tab below it Arrive at track and pay at registration booth. CASH ONLY!! Each round has a $5.00 membership fee per rider NOT per class. Check details below for approximate time frames for each event
URL:https://racetnseries.com/event/round-7-dekalb-co-fair-night-2/
LOCATION:Dekalb County Fairgrounds\, Alexandria\, TN\, 102 Fairgrounds Road\, Alexandria\, TN\, 37012\, United States
ORGANIZER;CN="RaceTN Series":MAILTO:info@racetnseries.com
END:VEVENT
BEGIN:VEVENT
DTSTART;TZID=America/Chicago:20240701T233000
DTEND;TZID=America/Chicago:20240702T045900
DTSTAMP:20260423T184022
CREATED:20240107T235353Z
LAST-MODIFIED:20240610T000404Z
UID:4389-1719876600-1719896340@racetnseries.com
SUMMARY:Round 8 Smith Co Fair
DESCRIPTION:MC and ATV Racing – Pre-Register Online day before race 12:01 a.m. to 9:00 p.m.-(times can vary)Strongly Encouraged. No Additional Fees. Pay at Track. Go to the Race TN Series Website. Find the Schedule/Pre Registration Tab Click the green tab below it Arrive at track and pay at registration booth. CASH ONLY!! Each round has a $5.00 membership fee per rider NOT per class. Check details below for approximate time frames for each event
URL:https://racetnseries.com/event/round-8-smith-co-fair/
LOCATION:Smith Co Ag Center\, 159 Ag Center Ln\, Carthage\, TN\, 37030\, United States
ORGANIZER;CN="RaceTN Series":MAILTO:info@racetnseries.com
END:VEVENT
BEGIN:VEVENT
DTSTART;TZID=America/Chicago:20240625T233000
DTEND;TZID=America/Chicago:20240626T045900
DTSTAMP:20260423T184022
CREATED:20240107T235130Z
LAST-MODIFIED:20240610T000119Z
UID:4385-1719358200-1719377940@racetnseries.com
SUMMARY:Round 6 Dekalb Co Fair Night 1
DESCRIPTION:MC and ATV Racing – Pre-Register Online day before race 12:01 a.m. to 9:00 p.m.-(times can vary)Strongly Encouraged. No Additional Fees. Pay at Track. Go to the Race TN Series Website. Find the Schedule/Pre Registration Tab Click the green tab below it Arrive at track and pay at registration booth. CASH ONLY!! Each round has a $5.00 membership fee per rider NOT per class. Check details below for approximate time frames for each event
URL:https://racetnseries.com/event/round-6-dekalb-co-fair-night-1/
LOCATION:Dekalb County Fairgrounds\, Alexandria\, TN\, 102 Fairgrounds Road\, Alexandria\, TN\, 37012\, United States
ORGANIZER;CN="RaceTN Series":MAILTO:info@racetnseries.com
END:VEVENT
BEGIN:VEVENT
DTSTART;TZID=America/Chicago:20240615T230000
DTEND;TZID=America/Chicago:20240616T045900
DTSTAMP:20260423T184022
CREATED:20240107T234515Z
LAST-MODIFIED:20240609T235940Z
UID:4383-1718492400-1718513940@racetnseries.com
SUMMARY:Round 5 White Co Fairgrounds
DESCRIPTION:MC and ATV Racing – Pre-Register Online day before race 12:01 a.m. to 9:00 p.m.-(times can vary)Strongly Encouraged. No Additional Fees. Pay at Track. Go to the Race TN Series Website. Find the Schedule/Pre Registration Tab Click the green tab below it Arrive at track and pay at registration booth. CASH ONLY!! Each round has a $5.00 membership fee per rider NOT per class. Check details below for approximate time frames for each event
URL:https://racetnseries.com/event/round-5-white-co-fairgrounds/
LOCATION:White Co Fairgrounds\, 565 Hale St\, Sparta\, TN\, 38583\, United States
ORGANIZER;CN="RaceTN Series":MAILTO:info@racetnseries.com
END:VEVENT
BEGIN:VEVENT
DTSTART;TZID=America/Chicago:20240615T000000
DTEND;TZID=America/Chicago:20240615T045900
DTSTAMP:20260423T184022
CREATED:20240107T234242Z
LAST-MODIFIED:20240609T235740Z
UID:4381-1718409600-1718427540@racetnseries.com
SUMMARY:Round 4 Make Up White Co Fairgrounds
DESCRIPTION:MC and ATV Racing – Pre-Register Online day before race 12:01 a.m. to 9:00 p.m.-(times can vary)Strongly Encouraged. No Additional Fees. Pay at Track. Go to the Race TN Series Website. Find the Schedule/Pre Registration Tab Click the green tab below it Arrive at track and pay at registration booth. CASH ONLY!! Each round has a $5.00 membership fee per rider NOT per class. Check details below for approximate time frames for each event
URL:https://racetnseries.com/event/round-4-dekalb-co-fairgrounds/
LOCATION:White Co Fairgrounds\, 565 Hale St\, Sparta\, TN\, 38583\, United States
ORGANIZER;CN="RaceTN Series":MAILTO:info@racetnseries.com
END:VEVENT
BEGIN:VEVENT
DTSTART;TZID=America/Chicago:20240511T000000
DTEND;TZID=America/Chicago:20240511T030000
DTSTAMP:20260423T184022
CREATED:20240107T215616Z
LAST-MODIFIED:20240107T215616Z
UID:4377-1715385600-1715396400@racetnseries.com
SUMMARY:Round 3 Overton Co Spring Race-Presented by the Overton Co Fair Association
DESCRIPTION:MC/ATV Racing
URL:https://racetnseries.com/event/round-3-overton-co-spring-race-presented-by-the-overton-co-fair-association/
LOCATION:Overton Co Fairgrounds\, 610 Monterey Hwy\, Livingston\, TN\, 38570\, United States
ORGANIZER;CN="RaceTN Series":MAILTO:info@racetnseries.com
END:VEVENT
BEGIN:VEVENT
DTSTART;VALUE=DATE:20240413
DTEND;VALUE=DATE:20240415
DTSTAMP:20260423T184022
CREATED:20240107T215414Z
LAST-MODIFIED:20240107T215414Z
UID:4374-1712984400-1713070799@racetnseries.com
SUMMARY:Round 2 Smith Co Ag Center
DESCRIPTION:MC/ATV Racing
URL:https://racetnseries.com/event/round-2-smith-co-ag-center/
LOCATION:Smith Co Ag Center\, 159 Ag Center Ln\, Carthage\, TN\, 37030\, United States
END:VEVENT
BEGIN:VEVENT
DTSTART;VALUE=DATE:20240323
DTEND;VALUE=DATE:20240325
DTSTAMP:20260423T184022
CREATED:20230906T204701Z
LAST-MODIFIED:20240304T165346Z
UID:4276-1711170000-1711256399@racetnseries.com
SUMMARY:Hyder Burks Race TN Series Season Opener
DESCRIPTION:ATV/MC Racing TT Track \nStarting the Season in a Way We Never Have Before
URL:https://racetnseries.com/event/hyder-burks-race-tn-series-season-opener/
LOCATION:Hyder Burks\, Cookeville\, TN\, 38501\, United States
ORGANIZER;CN="RaceTN Series":MAILTO:info@racetnseries.com
END:VEVENT
BEGIN:VEVENT
DTSTART;VALUE=DATE:20231216
DTEND;VALUE=DATE:20231218
DTSTAMP:20260423T184022
CREATED:20230818T055234Z
LAST-MODIFIED:20230818T055511Z
UID:4263-1702706400-1702792799@racetnseries.com
SUMMARY:2023 Awards Ceremony
DESCRIPTION:Annual Awards Ceremony to honor our racers. Plaques\, jackets\, door prizes and a whole lot of fun. Join us for our end of the year awards. 2024 will be right around the corner.
URL:https://racetnseries.com/event/2023-awards-ceremony/
LOCATION:Cookeville Community Center
ORGANIZER;CN="RaceTN Series":MAILTO:info@racetnseries.com
END:VEVENT
BEGIN:VEVENT
DTSTART;VALUE=DATE:20231202
DTEND;VALUE=DATE:20231204
DTSTAMP:20260423T184022
CREATED:20240302T060043Z
LAST-MODIFIED:20240107T215223Z
UID:4328-1701496800-1701583199@racetnseries.com
SUMMARY:Connor Stokes Benefit Race
DESCRIPTION:We are proud to host in partnership with the Overton County Fair Association a benefit race for Connor Stokes who has recently been diagnosed with a form of leukemia and will be starting treatment. We are donation every single penny to the family for medical expenses\, etc. Let’s rally behind little Connor and his family to help them beat this! \nAdmission $10\, 3 and under free
URL:https://racetnseries.com/event/connor-stokes-benefit-race/
LOCATION:Overton Co Fairgrounds\, 610 Monterey Hwy\, Livingston\, TN\, 38570\, United States
ORGANIZER;CN="RaceTN Series":MAILTO:info@racetnseries.com
END:VEVENT
BEGIN:VEVENT
DTSTART;VALUE=DATE:20231117
DTEND;VALUE=DATE:20231119
DTSTAMP:20260423T184022
CREATED:20230923T142538Z
LAST-MODIFIED:20230923T142538Z
UID:4294-1700200800-1700287199@racetnseries.com
SUMMARY:Inaugural Christmas Race Putnam Co Fairgrounds
DESCRIPTION:
URL:https://racetnseries.com/event/inaugural-christmas-race-putnam-co-fairgrounds/
LOCATION:Golden Mountain Speedway\, 6338 Golden Mountain Road\, Sparta\, TN\, 38583\, United States
ORGANIZER;CN="RaceTN Series":MAILTO:info@racetnseries.com
END:VEVENT
BEGIN:VEVENT
DTSTART;VALUE=DATE:20231117
DTEND;VALUE=DATE:20231119
DTSTAMP:20260423T184022
CREATED:20230916T124525Z
LAST-MODIFIED:20230916T124525Z
UID:4283-1700200800-1700287199@racetnseries.com
SUMMARY:Putnam Co Christmas Race
DESCRIPTION:MC and ATV Racing – Pre-Register Online day before race 12:01 a.m. to 11:59 p.m.-Strongly Encouraged. No Additional Fees. Pay at Track. Go to the Race TN Series Website.  Find the Schedule/Pre-Registration Tab Click the green tab below it Arrive at track and pay at registration booth. CASH ONLY!! Each round has a $5.00 membership fee per rider NOT per class. Check details below for approximate time frames for each event. \nSchedule
URL:https://racetnseries.com/event/putnam-co-christmas-race/
LOCATION:Golden Mountain Speedway\, 6338 Golden Mountain Road\, Sparta\, TN\, 38583\, United States
ORGANIZER;CN="RaceTN Series":MAILTO:info@racetnseries.com
END:VEVENT
BEGIN:VEVENT
DTSTART;VALUE=DATE:20231014
DTEND;VALUE=DATE:20231016
DTSTAMP:20260423T184022
CREATED:20230818T055757Z
LAST-MODIFIED:20230818T055922Z
UID:4267-1697259600-1697345999@racetnseries.com
SUMMARY:Round 16 Halloween Race White Co Fairgrounds
DESCRIPTION:MC and ATV Racing – Pre-Register Online day before race 12:01 a.m. to 11:59 p.m.-Strongly Encouraged. No Additional Fees. Pay at Track. Go to the Race TN Series Website.  Find the Schedule/Pre Registration Tab Click the green tab below it  Arrive at track and pay at registration booth. CASH ONLY!! Each round has a $5.00 membership fee per rider NOT per class. Check details below for approximate time frames for each event. \nSchedule
URL:https://racetnseries.com/event/round-16-halloween-race-white-co-fairgrounds/
LOCATION:White Co Fairgrounds\, 565 Hale St\, Sparta\, TN\, 38583\, United States
ORGANIZER;CN="RaceTN Series":MAILTO:info@racetnseries.com
END:VEVENT
BEGIN:VEVENT
DTSTART;VALUE=DATE:20230923
DTEND;VALUE=DATE:20230925
DTSTAMP:20260423T184022
CREATED:20230318T193206Z
LAST-MODIFIED:20230923T141927Z
UID:4102-1695445200-1695531599@racetnseries.com
SUMMARY:Make Up Round 15 Overton Co Fall Brawl
DESCRIPTION:MC and ATV Racing – Pre-Register Online day before race 12:01 a.m. to 11:59 p.m.-Strongly Encouraged. No Additional Fees. Pay at Track. Go to the Race TN Series Website.  Find the Schedule/Pre Registration Tab Click the green tab below it  Arrive at track and pay at registration booth. CASH ONLY!! Each round has a $5.00 membership fee per rider NOT per class. Check details below for approximate time frames for each event. \nSchedule
URL:https://racetnseries.com/event/round-15-overton-co-fall-brawl/
LOCATION:Overton Co Fairgrounds\, 610 Monterey Hwy\, Livingston\, TN\, 38570\, United States
ORGANIZER;CN="RaceTN Series":MAILTO:info@racetnseries.com
END:VEVENT
BEGIN:VEVENT
DTSTART;TZID=America/Chicago:20230906T210000
DTEND;TZID=America/Chicago:20230907T023000
DTSTAMP:20260423T184022
CREATED:20230318T193020Z
LAST-MODIFIED:20230612T121844Z
UID:4100-1694034000-1694053800@racetnseries.com
SUMMARY:Round 14 White Co Fair
DESCRIPTION:MC and ATV Racing – Pre-Register Online day before race 12:01 a.m. to 11:59 p.m.-Strongly Encouraged. No Additional Fees. Pay at Track. Go to the Race TN Series Website.  Find the Schedule/Pre Registration Tab Click the green tab below it  Arrive at track and pay at registration booth. CASH ONLY!! Each round has a $5.00 membership fee per rider NOT per class. Check details below for approximate time frames for each event. \nSchedule
URL:https://racetnseries.com/event/round-14-white-co-fair/
LOCATION:White Co Fairgrounds\, 565 Hale St\, Sparta\, TN\, 38583\, United States
ORGANIZER;CN="RaceTN Series":MAILTO:info@racetnseries.com
END:VEVENT
BEGIN:VEVENT
DTSTART;VALUE=DATE:20230817
DTEND;VALUE=DATE:20230819
DTSTAMP:20260423T184022
CREATED:20230318T192843Z
LAST-MODIFIED:20230420T185436Z
UID:4098-1692248400-1692334799@racetnseries.com
SUMMARY:Round 13 Cumberland Co Fair
DESCRIPTION:MC and ATV Racing – Pre-Register Online day before race 12:01 a.m. to 11:59 p.m.-Strongly Encouraged. No Additional Fees. Pay at Track. Go to the Race TN Series Website.  Find the Schedule/Pre Registration Tab Click the green tab below it  Arrive at track and pay at registration booth. CASH ONLY!! Each round has a $5.00 membership fee per rider NOT per class. Check details below for approximate time frames for each event. \nSchedule
URL:https://racetnseries.com/event/round-12-cumberland-co-fair/
LOCATION:Cumberland County Complex\, 1398 Livingston Rd\, Crossville\, TN\, 38571\, United States
ORGANIZER;CN="RaceTN Series":MAILTO:info@racetnseries.com
END:VEVENT
BEGIN:VEVENT
DTSTART;TZID=America/Chicago:20230813T210000
DTEND;TZID=America/Chicago:20230814T023000
DTSTAMP:20260423T184022
CREATED:20230318T192702Z
LAST-MODIFIED:20230810T013227Z
UID:4096-1691960400-1691980200@racetnseries.com
SUMMARY:Round 12 Make Up Putnam Co Fair Night 2
DESCRIPTION:MC and ATV Racing – Pre-Register Online day before race 12:01 a.m. to 11:59 p.m.-Strongly Encouraged. No Additional Fees. Pay at Track. Go to the Race TN Series Website.  Find the Schedule/Pre Registration Tab Click the green tab below it  Arrive at track and pay at registration booth. CASH ONLY!! Each round has a $5.00 membership fee per rider NOT per class. Check details below for approximate time frames for each event. \nSchedule
URL:https://racetnseries.com/event/round-12-putnam-co-fair-night-2/
LOCATION:Golden Mountain Speedway\, 6338 Golden Mountain Road\, Sparta\, TN\, 38583\, United States
ORGANIZER;CN="RaceTN Series":MAILTO:info@racetnseries.com
END:VEVENT
BEGIN:VEVENT
DTSTART;TZID=America/Chicago:20230808T210000
DTEND;TZID=America/Chicago:20230809T020000
DTSTAMP:20260423T184022
CREATED:20230318T192440Z
LAST-MODIFIED:20230318T192440Z
UID:4093-1691528400-1691546400@racetnseries.com
SUMMARY:Round 11 Putnam Co Fair Night 1
DESCRIPTION:MC and ATV Racing – Pre-Register Online day before race 12:01 a.m. to 11:59 p.m.-Strongly Encouraged. No Additional Fees. Pay at Track. Go to the Race TN Series Website.  Find the Schedule/Pre Registration Tab Click the green tab below it  Arrive at track and pay at registration booth. CASH ONLY!! Each round has a $5.00 membership fee per rider NOT per class. Check details below for approximate time frames for each event. \nSchedule
URL:https://racetnseries.com/event/round-11-putnam-co-fair-night-1/
LOCATION:Golden Mountain Speedway\, 6338 Golden Mountain Road\, Sparta\, TN\, 38583\, United States
ORGANIZER;CN="RaceTN Series":MAILTO:info@racetnseries.com
END:VEVENT
BEGIN:VEVENT
DTSTART;TZID=America/Chicago:20230726T210000
DTEND;TZID=America/Chicago:20230727T023000
DTSTAMP:20260423T184022
CREATED:20230318T192258Z
LAST-MODIFIED:20230318T192536Z
UID:4091-1690405200-1690425000@racetnseries.com
SUMMARY:Round 10 Overton Co Fair Night 2
DESCRIPTION:MC and ATV Racing – Pre-Register Online day before race 12:01 a.m. to 11:59 p.m.-Strongly Encouraged. No Additional Fees. Pay at Track. Go to the Race TN Series Website.  Find the Schedule/Pre Registration Tab Click the green tab below it  Arrive at track and pay at registration booth. CASH ONLY!! Each round has a $5.00 membership fee per rider NOT per class. Check details below for approximate time frames for each event. \nSchedule
URL:https://racetnseries.com/event/round-11-overton-co-fair-night-2/
LOCATION:Overton Co Fairgrounds\, 610 Monterey Hwy\, Livingston\, TN\, 38570\, United States
ORGANIZER;CN="RaceTN Series":MAILTO:info@racetnseries.com
END:VEVENT
BEGIN:VEVENT
DTSTART;TZID=America/Chicago:20230725T210000
DTEND;TZID=America/Chicago:20230726T020000
DTSTAMP:20260423T184022
CREATED:20230318T192113Z
LAST-MODIFIED:20230318T192113Z
UID:4089-1690318800-1690336800@racetnseries.com
SUMMARY:Round 9 Overton Co Fair Night 1
DESCRIPTION:MC and ATV Racing – Pre-Register Online day before race 12:01 a.m. to 11:59 p.m.-Strongly Encouraged. No Additional Fees. Pay at Track. Go to the Race TN Series Website.  Find the Schedule/Pre Registration Tab Click the green tab below it  Arrive at track and pay at registration booth. CASH ONLY!! Each round has a $5.00 membership fee per rider NOT per class. Check details below for approximate time frames for each event. \nSchedule
URL:https://racetnseries.com/event/round-9-overton-co-fair-night-1/
LOCATION:Overton Co Fairgrounds\, 610 Monterey Hwy\, Livingston\, TN\, 38570\, United States
ORGANIZER;CN="RaceTN Series":MAILTO:info@racetnseries.com
END:VEVENT
BEGIN:VEVENT
DTSTART;TZID=America/Chicago:20230714T210000
DTEND;TZID=America/Chicago:20230715T023000
DTSTAMP:20260423T184022
CREATED:20230318T191918Z
LAST-MODIFIED:20230318T191918Z
UID:4087-1689368400-1689388200@racetnseries.com
SUMMARY:Round 8 Dekalb Co Fair Night 2
DESCRIPTION:  \nMC and ATV Racing – Pre-Register Online day before race 12:01 a.m. to 11:59 p.m.-Strongly Encouraged. No Additional Fees. Pay at Track. Go to the Race TN Series Website.  Find the Schedule/Pre Registration Tab Click the green tab below it  Arrive at track and pay at registration booth. CASH ONLY!! Each round has a $5.00 membership fee per rider NOT per class. Check details below for approximate time frames for each event. \nSchedule
URL:https://racetnseries.com/event/round-8-dekalb-co-fair-night-2/
LOCATION:Dekalb County Fairgrounds\, Alexandria\, TN\, 102 Fairgrounds Road\, Alexandria\, TN\, 37012\, United States
ORGANIZER;CN="RaceTN Series":MAILTO:info@racetnseries.com
END:VEVENT
BEGIN:VEVENT
DTSTART;TZID=America/Chicago:20230711T210000
DTEND;TZID=America/Chicago:20230712T020000
DTSTAMP:20260423T184022
CREATED:20230318T191808Z
LAST-MODIFIED:20230318T191808Z
UID:4085-1689109200-1689127200@racetnseries.com
SUMMARY:Round 7 Dekalb Co Fair
DESCRIPTION:  \nMC and ATV Racing – Pre-Register Online day before race 12:01 a.m. to 11:59 p.m.-Strongly Encouraged. No Additional Fees. Pay at Track. Go to the Race TN Series Website.  Find the Schedule/Pre Registration Tab Click the green tab below it  Arrive at track and pay at registration booth. CASH ONLY!! Each round has a $5.00 membership fee per rider NOT per class. Check details below for approximate time frames for each event. \nSchedule
URL:https://racetnseries.com/event/round-7-dekalb-co-fair/
LOCATION:Dekalb County Fairgrounds\, Alexandria\, TN\, 102 Fairgrounds Road\, Alexandria\, TN\, 37012\, United States
ORGANIZER;CN="RaceTN Series":MAILTO:info@racetnseries.com
END:VEVENT
BEGIN:VEVENT
DTSTART;TZID=America/Chicago:20230705T210000
DTEND;TZID=America/Chicago:20230706T020000
DTSTAMP:20260423T184022
CREATED:20230318T191639Z
LAST-MODIFIED:20230318T191639Z
UID:4083-1688590800-1688608800@racetnseries.com
SUMMARY:Round 6 Smith Co Fair
DESCRIPTION:  \nMC and ATV Racing – Pre-Register Online day before race 12:01 a.m. to 11:59 p.m.-Strongly Encouraged. No Additional Fees. Pay at Track. Go to the Race TN Series Website.  Find the Schedule/Pre Registration Tab Click the green tab below it  Arrive at track and pay at registration booth. CASH ONLY!! Each round has a $5.00 membership fee per rider NOT per class. Check details below for approximate time frames for each event. \nSchedule
URL:https://racetnseries.com/event/round-6-smith-co-fair/
LOCATION:Smith Co Ag Center\, 159 Ag Center Ln\, Carthage\, TN\, 37030\, United States
ORGANIZER;CN="RaceTN Series":MAILTO:info@racetnseries.com
END:VEVENT
BEGIN:VEVENT
DTSTART;TZID=America/Chicago:20230609T190000
DTEND;TZID=America/Chicago:20230611T013000
DTSTAMP:20260423T184022
CREATED:20230318T191457Z
LAST-MODIFIED:20230421T215435Z
UID:4081-1686337200-1686447000@racetnseries.com
SUMMARY:Round 5 Smith Co Ag Center
DESCRIPTION:Saturday Round 5 \nMC and ATV Racing – Pre-Register Online day before race 12:01 a.m. to 11:59 p.m.-Strongly Encouraged. No Additional Fees. Pay at Track. Go to the Race TN Series Website.  Find the Schedule/Pre Registration Tab Click the green tab below it  Arrive at track and pay at registration booth. CASH ONLY!! Each round has a $5.00 membership fee per rider NOT per class. Check details below for approximate time frames for each event. \nSchedule
URL:https://racetnseries.com/event/open-practice-and-round-5-smith-co-ag-center/
LOCATION:Smith Co Ag Center\, 159 Ag Center Ln\, Carthage\, TN\, 37030\, United States
ORGANIZER;CN="RaceTN Series":MAILTO:info@racetnseries.com
END:VEVENT
BEGIN:VEVENT
DTSTART;VALUE=DATE:20230609
DTEND;VALUE=DATE:20230611
DTSTAMP:20260423T184022
CREATED:20230326T224618Z
LAST-MODIFIED:20230421T215900Z
UID:4143-1686286800-1686373199@racetnseries.com
SUMMARY:Round 1 Make Up 3rd Times a Charm
DESCRIPTION:Friday June 9 \nMC and ATV Racing – Pre-Register Online day before race 12:01 a.m. to 11:59 p.m.-Strongly Encouraged. No Additional Fees. Pay at Track. Go to the Race TN Series Website.  Find the Schedule/Pre Registration Tab Click the green tab below it  Arrive at track and pay at registration booth. CASH ONLY!! Each round has a $5.00 membership fee per rider NOT per class. Check details below for approximate time frames for each event.
URL:https://racetnseries.com/event/make-up-round-1/
LOCATION:Smith Co Ag Center\, 159 Ag Center Ln\, Carthage\, TN\, 37030\, United States
ORGANIZER;CN="RaceTN Series":MAILTO:info@racetnseries.com
END:VEVENT
BEGIN:VEVENT
DTSTART;TZID=America/Chicago:20230603T180000
DTEND;TZID=America/Chicago:20230604T013000
DTSTAMP:20260423T184022
CREATED:20230318T191212Z
LAST-MODIFIED:20230419T144430Z
UID:4079-1685815200-1685842200@racetnseries.com
SUMMARY:Round 4 White Co Fairgrounds
DESCRIPTION:MC and ATV Racing – Pre-Register Online day before race 12:01 a.m. to 11:59 p.m.-Strongly Encouraged. No Additional Fees. Pay at Track. Go to the Race TN Series Website.  Find the Schedule/Pre Registration Tab Click the green tab below it  Arrive at track and pay at registration booth. CASH ONLY!! Each round has a $5.00 membership fee per rider NOT per class. Check details below for approximate time frames for each event. \nSchedule
URL:https://racetnseries.com/event/round-4-cumberland-co-comples/
LOCATION:White Co Fairgrounds\, 565 Hale St\, Sparta\, TN\, 38583\, United States
ORGANIZER;CN="RaceTN Series":MAILTO:info@racetnseries.com
END:VEVENT
BEGIN:VEVENT
DTSTART;VALUE=DATE:20230519
DTEND;VALUE=DATE:20230521
DTSTAMP:20260423T184022
CREATED:20230318T190936Z
LAST-MODIFIED:20230517T224458Z
UID:4076-1684472400-1684558799@racetnseries.com
SUMMARY:Round 3 Make Up Smith Co Fairgrounds
DESCRIPTION:  \nMC and ATV Racing – Pre-Register Online day before race 12:01 a.m. to 11:59 p.m.-Strongly Encouraged. No Additional Fees. Pay at Track. Go to the Race TN Series Website.  Find the Schedule/Pre Registration Tab Click the green tab below it  Arrive at track and pay at registration booth. CASH ONLY!! Each round has a $5.00 membership fee per rider NOT per class. Check details below for approximate time frames for each event. \nSchedule
URL:https://racetnseries.com/event/round-3-overton-co-spring-fling/
LOCATION:Smith Co Ag Center\, 159 Ag Center Ln\, Carthage\, TN\, 37030\, United States
ORGANIZER;CN="RaceTN Series":MAILTO:info@racetnseries.com
END:VEVENT
END:VCALENDAR