BEGIN:VCALENDAR
VERSION:2.0
PRODID:-//Race Tennessee LLC|Race TN Series - ECPv6.15.20//NONSGML v1.0//EN
CALSCALE:GREGORIAN
METHOD:PUBLISH
X-ORIGINAL-URL:https://racetnseries.com
X-WR-CALDESC:Events for Race Tennessee LLC|Race TN Series
REFRESH-INTERVAL;VALUE=DURATION:PT1H
X-Robots-Tag:noindex
X-PUBLISHED-TTL:PT1H
BEGIN:VTIMEZONE
TZID:America/Chicago
BEGIN:DAYLIGHT
TZOFFSETFROM:-0600
TZOFFSETTO:-0500
TZNAME:CDT
DTSTART:20220313T080000
END:DAYLIGHT
BEGIN:STANDARD
TZOFFSETFROM:-0500
TZOFFSETTO:-0600
TZNAME:CST
DTSTART:20221106T070000
END:STANDARD
BEGIN:DAYLIGHT
TZOFFSETFROM:-0600
TZOFFSETTO:-0500
TZNAME:CDT
DTSTART:20230312T080000
END:DAYLIGHT
BEGIN:STANDARD
TZOFFSETFROM:-0500
TZOFFSETTO:-0600
TZNAME:CST
DTSTART:20231105T070000
END:STANDARD
BEGIN:DAYLIGHT
TZOFFSETFROM:-0600
TZOFFSETTO:-0500
TZNAME:CDT
DTSTART:20240310T080000
END:DAYLIGHT
BEGIN:STANDARD
TZOFFSETFROM:-0500
TZOFFSETTO:-0600
TZNAME:CST
DTSTART:20241103T070000
END:STANDARD
END:VTIMEZONE
BEGIN:VEVENT
DTSTART;TZID=America/Chicago:20230603T180000
DTEND;TZID=America/Chicago:20230604T013000
DTSTAMP:20260425T095407
CREATED:20230318T191212Z
LAST-MODIFIED:20230419T144430Z
UID:4079-1685815200-1685842200@racetnseries.com
SUMMARY:Round 4 White Co Fairgrounds
DESCRIPTION:MC and ATV Racing – Pre-Register Online day before race 12:01 a.m. to 11:59 p.m.-Strongly Encouraged. No Additional Fees. Pay at Track. Go to the Race TN Series Website.  Find the Schedule/Pre Registration Tab Click the green tab below it  Arrive at track and pay at registration booth. CASH ONLY!! Each round has a $5.00 membership fee per rider NOT per class. Check details below for approximate time frames for each event. \nSchedule
URL:https://racetnseries.com/event/round-4-cumberland-co-comples/
LOCATION:White Co Fairgrounds\, 565 Hale St\, Sparta\, TN\, 38583\, United States
ORGANIZER;CN="RaceTN Series":MAILTO:info@racetnseries.com
END:VEVENT
BEGIN:VEVENT
DTSTART;VALUE=DATE:20230609
DTEND;VALUE=DATE:20230611
DTSTAMP:20260425T095407
CREATED:20230326T224618Z
LAST-MODIFIED:20230421T215900Z
UID:4143-1686286800-1686373199@racetnseries.com
SUMMARY:Round 1 Make Up 3rd Times a Charm
DESCRIPTION:Friday June 9 \nMC and ATV Racing – Pre-Register Online day before race 12:01 a.m. to 11:59 p.m.-Strongly Encouraged. No Additional Fees. Pay at Track. Go to the Race TN Series Website.  Find the Schedule/Pre Registration Tab Click the green tab below it  Arrive at track and pay at registration booth. CASH ONLY!! Each round has a $5.00 membership fee per rider NOT per class. Check details below for approximate time frames for each event.
URL:https://racetnseries.com/event/make-up-round-1/
LOCATION:Smith Co Ag Center\, 159 Ag Center Ln\, Carthage\, TN\, 37030\, United States
ORGANIZER;CN="RaceTN Series":MAILTO:info@racetnseries.com
END:VEVENT
BEGIN:VEVENT
DTSTART;TZID=America/Chicago:20230609T190000
DTEND;TZID=America/Chicago:20230611T013000
DTSTAMP:20260425T095407
CREATED:20230318T191457Z
LAST-MODIFIED:20230421T215435Z
UID:4081-1686337200-1686447000@racetnseries.com
SUMMARY:Round 5 Smith Co Ag Center
DESCRIPTION:Saturday Round 5 \nMC and ATV Racing – Pre-Register Online day before race 12:01 a.m. to 11:59 p.m.-Strongly Encouraged. No Additional Fees. Pay at Track. Go to the Race TN Series Website.  Find the Schedule/Pre Registration Tab Click the green tab below it  Arrive at track and pay at registration booth. CASH ONLY!! Each round has a $5.00 membership fee per rider NOT per class. Check details below for approximate time frames for each event. \nSchedule
URL:https://racetnseries.com/event/open-practice-and-round-5-smith-co-ag-center/
LOCATION:Smith Co Ag Center\, 159 Ag Center Ln\, Carthage\, TN\, 37030\, United States
ORGANIZER;CN="RaceTN Series":MAILTO:info@racetnseries.com
END:VEVENT
END:VCALENDAR