BEGIN:VCALENDAR
VERSION:2.0
PRODID:-//Race Tennessee LLC|Race TN Series - ECPv6.15.20//NONSGML v1.0//EN
CALSCALE:GREGORIAN
METHOD:PUBLISH
X-ORIGINAL-URL:https://racetnseries.com
X-WR-CALDESC:Events for Race Tennessee LLC|Race TN Series
REFRESH-INTERVAL;VALUE=DURATION:PT1H
X-Robots-Tag:noindex
X-PUBLISHED-TTL:PT1H
BEGIN:VTIMEZONE
TZID:America/Chicago
BEGIN:DAYLIGHT
TZOFFSETFROM:-0600
TZOFFSETTO:-0500
TZNAME:CDT
DTSTART:20220313T080000
END:DAYLIGHT
BEGIN:STANDARD
TZOFFSETFROM:-0500
TZOFFSETTO:-0600
TZNAME:CST
DTSTART:20221106T070000
END:STANDARD
BEGIN:DAYLIGHT
TZOFFSETFROM:-0600
TZOFFSETTO:-0500
TZNAME:CDT
DTSTART:20230312T080000
END:DAYLIGHT
BEGIN:STANDARD
TZOFFSETFROM:-0500
TZOFFSETTO:-0600
TZNAME:CST
DTSTART:20231105T070000
END:STANDARD
BEGIN:DAYLIGHT
TZOFFSETFROM:-0600
TZOFFSETTO:-0500
TZNAME:CDT
DTSTART:20240310T080000
END:DAYLIGHT
BEGIN:STANDARD
TZOFFSETFROM:-0500
TZOFFSETTO:-0600
TZNAME:CST
DTSTART:20241103T070000
END:STANDARD
END:VTIMEZONE
BEGIN:VEVENT
DTSTART;TZID=America/Chicago:20230705T210000
DTEND;TZID=America/Chicago:20230706T020000
DTSTAMP:20260425T083159
CREATED:20230318T191639Z
LAST-MODIFIED:20230318T191639Z
UID:4083-1688590800-1688608800@racetnseries.com
SUMMARY:Round 6 Smith Co Fair
DESCRIPTION:  \nMC and ATV Racing – Pre-Register Online day before race 12:01 a.m. to 11:59 p.m.-Strongly Encouraged. No Additional Fees. Pay at Track. Go to the Race TN Series Website.  Find the Schedule/Pre Registration Tab Click the green tab below it  Arrive at track and pay at registration booth. CASH ONLY!! Each round has a $5.00 membership fee per rider NOT per class. Check details below for approximate time frames for each event. \nSchedule
URL:https://racetnseries.com/event/round-6-smith-co-fair/
LOCATION:Smith Co Ag Center\, 159 Ag Center Ln\, Carthage\, TN\, 37030\, United States
ORGANIZER;CN="RaceTN Series":MAILTO:info@racetnseries.com
END:VEVENT
BEGIN:VEVENT
DTSTART;TZID=America/Chicago:20230711T210000
DTEND;TZID=America/Chicago:20230712T020000
DTSTAMP:20260425T083159
CREATED:20230318T191808Z
LAST-MODIFIED:20230318T191808Z
UID:4085-1689109200-1689127200@racetnseries.com
SUMMARY:Round 7 Dekalb Co Fair
DESCRIPTION:  \nMC and ATV Racing – Pre-Register Online day before race 12:01 a.m. to 11:59 p.m.-Strongly Encouraged. No Additional Fees. Pay at Track. Go to the Race TN Series Website.  Find the Schedule/Pre Registration Tab Click the green tab below it  Arrive at track and pay at registration booth. CASH ONLY!! Each round has a $5.00 membership fee per rider NOT per class. Check details below for approximate time frames for each event. \nSchedule
URL:https://racetnseries.com/event/round-7-dekalb-co-fair/
LOCATION:Dekalb County Fairgrounds\, Alexandria\, TN\, 102 Fairgrounds Road\, Alexandria\, TN\, 37012\, United States
ORGANIZER;CN="RaceTN Series":MAILTO:info@racetnseries.com
END:VEVENT
BEGIN:VEVENT
DTSTART;TZID=America/Chicago:20230714T210000
DTEND;TZID=America/Chicago:20230715T023000
DTSTAMP:20260425T083159
CREATED:20230318T191918Z
LAST-MODIFIED:20230318T191918Z
UID:4087-1689368400-1689388200@racetnseries.com
SUMMARY:Round 8 Dekalb Co Fair Night 2
DESCRIPTION:  \nMC and ATV Racing – Pre-Register Online day before race 12:01 a.m. to 11:59 p.m.-Strongly Encouraged. No Additional Fees. Pay at Track. Go to the Race TN Series Website.  Find the Schedule/Pre Registration Tab Click the green tab below it  Arrive at track and pay at registration booth. CASH ONLY!! Each round has a $5.00 membership fee per rider NOT per class. Check details below for approximate time frames for each event. \nSchedule
URL:https://racetnseries.com/event/round-8-dekalb-co-fair-night-2/
LOCATION:Dekalb County Fairgrounds\, Alexandria\, TN\, 102 Fairgrounds Road\, Alexandria\, TN\, 37012\, United States
ORGANIZER;CN="RaceTN Series":MAILTO:info@racetnseries.com
END:VEVENT
BEGIN:VEVENT
DTSTART;TZID=America/Chicago:20230725T210000
DTEND;TZID=America/Chicago:20230726T020000
DTSTAMP:20260425T083159
CREATED:20230318T192113Z
LAST-MODIFIED:20230318T192113Z
UID:4089-1690318800-1690336800@racetnseries.com
SUMMARY:Round 9 Overton Co Fair Night 1
DESCRIPTION:MC and ATV Racing – Pre-Register Online day before race 12:01 a.m. to 11:59 p.m.-Strongly Encouraged. No Additional Fees. Pay at Track. Go to the Race TN Series Website.  Find the Schedule/Pre Registration Tab Click the green tab below it  Arrive at track and pay at registration booth. CASH ONLY!! Each round has a $5.00 membership fee per rider NOT per class. Check details below for approximate time frames for each event. \nSchedule
URL:https://racetnseries.com/event/round-9-overton-co-fair-night-1/
LOCATION:Overton Co Fairgrounds\, 610 Monterey Hwy\, Livingston\, TN\, 38570\, United States
ORGANIZER;CN="RaceTN Series":MAILTO:info@racetnseries.com
END:VEVENT
BEGIN:VEVENT
DTSTART;TZID=America/Chicago:20230726T210000
DTEND;TZID=America/Chicago:20230727T023000
DTSTAMP:20260425T083159
CREATED:20230318T192258Z
LAST-MODIFIED:20230318T192536Z
UID:4091-1690405200-1690425000@racetnseries.com
SUMMARY:Round 10 Overton Co Fair Night 2
DESCRIPTION:MC and ATV Racing – Pre-Register Online day before race 12:01 a.m. to 11:59 p.m.-Strongly Encouraged. No Additional Fees. Pay at Track. Go to the Race TN Series Website.  Find the Schedule/Pre Registration Tab Click the green tab below it  Arrive at track and pay at registration booth. CASH ONLY!! Each round has a $5.00 membership fee per rider NOT per class. Check details below for approximate time frames for each event. \nSchedule
URL:https://racetnseries.com/event/round-11-overton-co-fair-night-2/
LOCATION:Overton Co Fairgrounds\, 610 Monterey Hwy\, Livingston\, TN\, 38570\, United States
ORGANIZER;CN="RaceTN Series":MAILTO:info@racetnseries.com
END:VEVENT
END:VCALENDAR