BEGIN:VCALENDAR
VERSION:2.0
PRODID:-//Race Tennessee LLC|Race TN Series - ECPv6.15.20//NONSGML v1.0//EN
CALSCALE:GREGORIAN
METHOD:PUBLISH
X-ORIGINAL-URL:https://racetnseries.com
X-WR-CALDESC:Events for Race Tennessee LLC|Race TN Series
REFRESH-INTERVAL;VALUE=DURATION:PT1H
X-Robots-Tag:noindex
X-PUBLISHED-TTL:PT1H
BEGIN:VTIMEZONE
TZID:America/Chicago
BEGIN:DAYLIGHT
TZOFFSETFROM:-0600
TZOFFSETTO:-0500
TZNAME:CDT
DTSTART:20230312T080000
END:DAYLIGHT
BEGIN:STANDARD
TZOFFSETFROM:-0500
TZOFFSETTO:-0600
TZNAME:CST
DTSTART:20231105T070000
END:STANDARD
BEGIN:DAYLIGHT
TZOFFSETFROM:-0600
TZOFFSETTO:-0500
TZNAME:CDT
DTSTART:20240310T080000
END:DAYLIGHT
BEGIN:STANDARD
TZOFFSETFROM:-0500
TZOFFSETTO:-0600
TZNAME:CST
DTSTART:20241103T070000
END:STANDARD
BEGIN:DAYLIGHT
TZOFFSETFROM:-0600
TZOFFSETTO:-0500
TZNAME:CDT
DTSTART:20250309T080000
END:DAYLIGHT
BEGIN:STANDARD
TZOFFSETFROM:-0500
TZOFFSETTO:-0600
TZNAME:CST
DTSTART:20251102T070000
END:STANDARD
END:VTIMEZONE
BEGIN:VEVENT
DTSTART;TZID=America/Chicago:20241102T230000
DTEND;TZID=America/Chicago:20241103T023000
DTSTAMP:20260424T110829
CREATED:20240108T000529Z
LAST-MODIFIED:20240610T001612Z
UID:4408-1730588400-1730601000@racetnseries.com
SUMMARY:Round 18 Golden Mountain Speedway
DESCRIPTION:MC and ATV Racing – Pre-Register Online day before race 12:01 a.m. to 9:00 p.m.-(times can vary)Strongly Encouraged. No Additional Fees. Pay at Track. Go to the Race TN Series Website. Find the Schedule/Pre Registration Tab Click the green tab below it Arrive at track and pay at registration booth. CASH ONLY!! Each round has a $5.00 membership fee per rider NOT per class. Check details below for approximate time frames for each event
URL:https://racetnseries.com/event/round-17-putnam-co-fairgrounds-date-to-be-determined/
LOCATION:Golden Mountain Speedway\, 6338 Golden Mountain Road\, Sparta\, TN\, 38583\, United States
ORGANIZER;CN="RaceTN Series":MAILTO:info@racetnseries.com
END:VEVENT
END:VCALENDAR