BEGIN:VCALENDAR
VERSION:2.0
PRODID:-//Race Tennessee LLC|Race TN Series - ECPv6.15.20//NONSGML v1.0//EN
CALSCALE:GREGORIAN
METHOD:PUBLISH
X-ORIGINAL-URL:https://racetnseries.com
X-WR-CALDESC:Events for Race Tennessee LLC|Race TN Series
REFRESH-INTERVAL;VALUE=DURATION:PT1H
X-Robots-Tag:noindex
X-PUBLISHED-TTL:PT1H
BEGIN:VTIMEZONE
TZID:America/Chicago
BEGIN:DAYLIGHT
TZOFFSETFROM:-0600
TZOFFSETTO:-0500
TZNAME:CDT
DTSTART:20230312T080000
END:DAYLIGHT
BEGIN:STANDARD
TZOFFSETFROM:-0500
TZOFFSETTO:-0600
TZNAME:CST
DTSTART:20231105T070000
END:STANDARD
BEGIN:DAYLIGHT
TZOFFSETFROM:-0600
TZOFFSETTO:-0500
TZNAME:CDT
DTSTART:20240310T080000
END:DAYLIGHT
BEGIN:STANDARD
TZOFFSETFROM:-0500
TZOFFSETTO:-0600
TZNAME:CST
DTSTART:20241103T070000
END:STANDARD
BEGIN:DAYLIGHT
TZOFFSETFROM:-0600
TZOFFSETTO:-0500
TZNAME:CDT
DTSTART:20250309T080000
END:DAYLIGHT
BEGIN:STANDARD
TZOFFSETFROM:-0500
TZOFFSETTO:-0600
TZNAME:CST
DTSTART:20251102T070000
END:STANDARD
END:VTIMEZONE
BEGIN:VEVENT
DTSTART;VALUE=DATE:20241207
DTEND;VALUE=DATE:20241209
DTSTAMP:20260424T094306
CREATED:20241115T113221Z
LAST-MODIFIED:20241115T113355Z
UID:4709-1733551200-1733637599@racetnseries.com
SUMMARY:Cody Jones Benefit Race
DESCRIPTION:
URL:https://racetnseries.com/event/4709/
LOCATION:Smith Co Ag Center\, 159 Ag Center Ln\, Carthage\, TN\, 37030\, United States
ORGANIZER;CN="RaceTN Series":MAILTO:info@racetnseries.com
END:VEVENT
BEGIN:VEVENT
DTSTART;VALUE=DATE:20241214
DTEND;VALUE=DATE:20241216
DTSTAMP:20260424T094306
CREATED:20240927T200729Z
LAST-MODIFIED:20240927T201017Z
UID:4675-1734156000-1734242399@racetnseries.com
SUMMARY:2024 Race TN Series Awards Ceremony Banquet
DESCRIPTION:Awards to be given out for our top racers for the 2024 season
URL:https://racetnseries.com/event/2024-race-tn-series-awards-ceremony-banquet/
LOCATION:Cookeville Community Center
ORGANIZER;CN="RaceTN Series":MAILTO:info@racetnseries.com
END:VEVENT
END:VCALENDAR