BEGIN:VCALENDAR
VERSION:2.0
PRODID:-//Race Tennessee LLC|Race TN Series - ECPv6.15.20//NONSGML v1.0//EN
CALSCALE:GREGORIAN
METHOD:PUBLISH
X-WR-CALNAME:Race Tennessee LLC|Race TN Series
X-ORIGINAL-URL:https://racetnseries.com
X-WR-CALDESC:Events for Race Tennessee LLC|Race TN Series
REFRESH-INTERVAL;VALUE=DURATION:PT1H
X-Robots-Tag:noindex
X-PUBLISHED-TTL:PT1H
BEGIN:VTIMEZONE
TZID:America/Chicago
BEGIN:DAYLIGHT
TZOFFSETFROM:-0600
TZOFFSETTO:-0500
TZNAME:CDT
DTSTART:20240310T080000
END:DAYLIGHT
BEGIN:STANDARD
TZOFFSETFROM:-0500
TZOFFSETTO:-0600
TZNAME:CST
DTSTART:20241103T070000
END:STANDARD
BEGIN:DAYLIGHT
TZOFFSETFROM:-0600
TZOFFSETTO:-0500
TZNAME:CDT
DTSTART:20250309T080000
END:DAYLIGHT
BEGIN:STANDARD
TZOFFSETFROM:-0500
TZOFFSETTO:-0600
TZNAME:CST
DTSTART:20251102T070000
END:STANDARD
BEGIN:DAYLIGHT
TZOFFSETFROM:-0600
TZOFFSETTO:-0500
TZNAME:CDT
DTSTART:20260308T080000
END:DAYLIGHT
BEGIN:STANDARD
TZOFFSETFROM:-0500
TZOFFSETTO:-0600
TZNAME:CST
DTSTART:20261101T070000
END:STANDARD
END:VTIMEZONE
BEGIN:VEVENT
DTSTART;VALUE=DATE:20250805
DTEND;VALUE=DATE:20250807
DTSTAMP:20260423T220005
CREATED:20250101T171958Z
LAST-MODIFIED:20250726T120534Z
UID:4763-1754370000-1754456399@racetnseries.com
SUMMARY:Round 11 Putnam Co Fair Night 1
DESCRIPTION:MC and ATV Racing – Pre-Register Online day before race 12:01 a.m. to 9:00 p.m.- (times can vary) Strongly Encouraged. No Additional Fees. Pay at Track. Go to the Race TN Series Website. Find the Schedule/Pre-Registration Tab Click the green tab below it Arrive at track and pay at registration booth. CASH ONLY!! Each round has a $5.00 membership fee per rider NOT per class. Check details below for approximate time frames for each event
URL:https://racetnseries.com/event/round-11-putnam-co-fair-night-1-3/
LOCATION:Putnam Co Fairgrounds\, 155 Fairground Street\, Cookeville\, TN\, 38501\, United States
ORGANIZER;CN="RaceTN Series":MAILTO:info@racetnseries.com
END:VEVENT
BEGIN:VEVENT
DTSTART;VALUE=DATE:20250806
DTEND;VALUE=DATE:20250808
DTSTAMP:20260423T220005
CREATED:20250101T172144Z
LAST-MODIFIED:20250726T120618Z
UID:4765-1754456400-1754542799@racetnseries.com
SUMMARY:Round 12 Putnam Co Fair Night 2
DESCRIPTION:MC and ATV Racing – Pre-Register Online day before race 12:01 a.m. to 9:00 p.m.- (times can vary) Strongly Encouraged. No Additional Fees. Pay at Track. Go to the Race TN Series Website. Find the Schedule/Pre-Registration Tab Click the green tab below it Arrive at track and pay at registration booth. CASH ONLY!! Each round has a $5.00 membership fee per rider NOT per class. Check details below for approximate time frames for each event
URL:https://racetnseries.com/event/round-12-putnam-co-fair-night-2-3/
LOCATION:Putnam Co Fairgrounds\, 155 Fairground Street\, Cookeville\, TN\, 38501\, United States
ORGANIZER;CN="RaceTN Series":MAILTO:info@racetnseries.com
END:VEVENT
BEGIN:VEVENT
DTSTART;VALUE=DATE:20250809
DTEND;VALUE=DATE:20250811
DTSTAMP:20260423T220005
CREATED:20250101T170546Z
LAST-MODIFIED:20250726T121128Z
UID:4748-1754715600-1754801999@racetnseries.com
SUMMARY:Round 13 Bledsoe Co Fairgrounds
DESCRIPTION:MC and ATV Racing – Pre-Register Online day before race 12:01 a.m. to 9:00 p.m.- (times can vary) Strongly Encouraged. No Additional Fees. Pay at Track. Go to the Race TN Series Website. Find the Schedule/Pre-Registration Tab Click the green tab below it Arrive at track and pay at registration booth. CASH ONLY!! Each round has a $5.00 membership fee per rider NOT per class. Check details below for approximate time frames for each event
URL:https://racetnseries.com/event/round-13-bledsoe-co-fairgrounds/
LOCATION:Bledsoe Co Fairgrounds\, 36.1299968\, -85.6358912\, Pikeville\, TN\, 37367\, United States
ORGANIZER;CN="RaceTN Series":MAILTO:info@racetnseries.com
END:VEVENT
BEGIN:VEVENT
DTSTART;VALUE=DATE:20250821
DTEND;VALUE=DATE:20250823
DTSTAMP:20260423T220005
CREATED:20250101T172312Z
LAST-MODIFIED:20250726T121203Z
UID:4767-1755752400-1755838799@racetnseries.com
SUMMARY:Round 14 Cumberland Co Fair
DESCRIPTION:MC and ATV Racing – Pre-Register Online day before race 12:01 a.m. to 9:00 p.m.- (times can vary) Strongly Encouraged. No Additional Fees. Pay at Track. Go to the Race TN Series Website. Find the Schedule/Pre-Registration Tab Click the green tab below it Arrive at track and pay at registration booth. CASH ONLY!! Each round has a $5.00 membership fee per rider NOT per class. Check details below for approximate time frames for each event
URL:https://racetnseries.com/event/round-14-cumberland-co-fair-2/
LOCATION:Cumberland County Complex\, 1398 Livingston Rd\, Crossville\, TN\, 38571\, United States
ORGANIZER;CN="RaceTN Series":MAILTO:info@racetnseries.com
END:VEVENT
END:VCALENDAR